BEGIN:VCALENDAR
VERSION:2.0
PRODID:-//ChamberMaster//Event Calendar 2.0//EN
METHOD:PUBLISH
X-PUBLISHED-TTL:P3D
REFRESH-INTERVAL:P3D
CALSCALE:GREGORIAN
BEGIN:VEVENT
DTSTART:20170113T180000Z
DTEND:20170113T190000Z
X-MICROSOFT-CDO-ALLDAYEVENT:FALSE
SUMMARY:2017 WDCCC Corporate Sponsors
DESCRIPTION:Become a WDCCC Corporate Sponsor your Logo will be seen and listed at all of our Chamber Events\, on all weekly emails\, website\, and social media.\n\n\n\n$5000 Executive Sponsor\n\n	Recognition of your sponsorship on Chamber Banner used at all Monthly Chamber Events\n	Your LOGO in every issue of the Chamber e-newsletter for the year \n	8 Mass emails throughout the year to promote your business to members \n	Your LOGO with a link to your site on the Chamber website for the year\n	3 Member Spotlights on Chamber website for your business or promotional use \n	8 Facebook promotions of your business\, event\, sale or promotion\n	Banner ad on all pages of Chamber Website for a year\n	Recognition of your sponsorship at monthly Chamber luncheons \n	4 Opportunities to display/promote your business at Chamber luncheons  \n	4 Tickets to the Chamber luncheon with advance reservations\n	Opportunity to make a 5 minute presentation at the Chamber luncheon of your choice\n	Sponsorship listing in the Annual Awards Banquet Program\n	Public recognition and thanks at the Annual Chamber Banquet \n\n$2500 Partner Sponsor\n\n\n	Recognition of your sponsorship on Chamber Banner used at all Monthly Chamber Events\n	Your LOGO in every issue of the Chamber e-newsletter for the year \n	4 Mass emails throughout the year to promote your business to members \n	Your LOGO with a link to your site on the Chamber website for the year\n	2 Member Spotlights on Chamber website for your business or promotional use \n	6 Facebook promotions of your business\, event\, sale or promotion\n	Banner ad on all pages of Chamber Website for six months\n	Recognition of your sponsorship at monthly Chamber luncheons \n	2 Opportunities to display/promote your business at Chamber luncheons  \n	2 Tickets to the Chamber luncheon with advance reservations\n	Opportunity to make a 3 minute presentation at the Chamber luncheon of your choice\n	Sponsorship listing in the Annual Awards Banquet Program\n	Public recognition and thanks at the Annual Chamber Banquet \n\n\n\n$1000 Community Sponsor\n\n\n	Recognition of your sponsorship on Chamber Banner used at all Monthly Chamber Events\n	Your NAME in every issue of the Chamber e-newsletter for the year \n	2 Mass emails throughout the year to promote your business to members \n	Your NAME with a link to your site on the Chamber website for the year\n	1 Member Spotlights on Chamber website for your business or promotional use \n	4 Facebook promotions of your business\, event\, sale or promotion\n	Banner ad on all pages of Chamber Website for two months\n	Recognition of your sponsorship at monthly Chamber luncheons \n	1 Opportunities to display/promote your business at Chamber luncheons  \n	1 Tickets to the Chamber luncheon with advance reservations\n	Opportunity to make a 2 minute presentation at the Chamber luncheon of your choice\n	Sponsorship listing in the Annual Awards Banquet Program\n	Public recognition and thanks at the Annual Chamber Banquet \n\n\n\nEXECUTIVE
X-ALT-DESC;FMTTYPE=text/html:Become a WDCCC Corporate Sponsor your Logo will be seen and listed at all of our Chamber Events\, on all weekly emails\, website\, and social media.<br />\n<br />\n<u><strong>$5000 Executive Sponsor</strong></u>\n<ul>\n	<li><span style="font-size:10.0pt\;">Recognition</span><span style="font-size:10.0pt\;"> of your sponsorship on Chamber Banner used at all </span><span style="font-size:10.0pt\;">Monthly Chamber Events</span></li>\n	<li><span style="font-size:10.0pt\;">Your LOGO in every issue of the Chamber e-newsletter for the year </span></li>\n	<li><span style="font-size:10.0pt\;">8 Mass emails throughout the year to promote your business to members </span></li>\n	<li><span style="font-size:10.0pt\;">Your LOGO with a link to your site on the Chamber website for the year</span></li>\n	<li>3 <span style="font-size:10.0pt\;">Member Spotlights on Chamber website for your business or promotional use </span></li>\n	<li>8 <span style="font-size:10.0pt\;">Facebook promotions of your business\, event\, sale or promotion</span></li>\n	<li><span style="font-size:10.0pt\;">Banner ad on all pages of Chamber Website for a year</span></li>\n	<li><span style="font-size:10.0pt\;">Recognition of your sponsorship at monthly Chamber luncheons </span></li>\n	<li><span style="font-size:10.0pt\;">4 Opportunities to display/promote your business at Chamber luncheons&nbsp\; </span></li>\n	<li><span style="font-size:10.0pt\;">4 Tickets to the Chamber luncheon with advance reservations</span></li>\n	<li><span style="font-size:10.0pt\;">Opportunity to make a 5 minute presentation at the Chamber luncheon of your choice</span></li>\n	<li><span style="font-size:10.0pt\;">Sponsorship listing in the Annual Awards Banquet Program</span></li>\n	<li><span style="font-size:10.0pt\;">Public recognition and thanks at the Annual Chamber Banquet </span></li>\n</ul>\n<u><strong>$2500 Partner Sponsor</strong></u>\n\n<ul>\n	<li><span style="font-size:10.0pt\;">Recognition</span><span style="font-size:10.0pt\;"> of your sponsorship on Chamber Banner used at all </span><span style="font-size:10.0pt\;">Monthly Chamber Events</span></li>\n	<li><span style="font-size:10.0pt\;">Your LOGO in every issue of the Chamber e-newsletter for the year </span></li>\n	<li><span style="font-size:10.0pt\;">4 Mass emails throughout the year to promote your business to members </span></li>\n	<li><span style="font-size:10.0pt\;">Your LOGO with a link to your site on the Chamber website for the year</span></li>\n	<li>2 <span style="font-size:10.0pt\;">Member Spotlights on Chamber website for your business or promotional use </span></li>\n	<li>6 <span style="font-size:10.0pt\;">Facebook promotions of your business\, event\, sale or promotion</span></li>\n	<li><span style="font-size:10.0pt\;">Banner ad on all pages of Chamber Website for six months</span></li>\n	<li><span style="font-size:10.0pt\;">Recognition of your sponsorship at monthly Chamber luncheons </span></li>\n	<li><span style="font-size:10.0pt\;">2 Opportunities to display/promote your business at Chamber luncheons&nbsp\; </span></li>\n	<li><span style="font-size:10.0pt\;">2 Tickets to the Chamber luncheon with advance reservations</span></li>\n	<li><span style="font-size:10.0pt\;">Opportunity to make a 3 minute presentation at the Chamber luncheon of your choice</span></li>\n	<li><span style="font-size:10.0pt\;">Sponsorship listing in the Annual Awards Banquet Program</span></li>\n	<li><span style="font-size:10.0pt\;">Public recognition and thanks at the Annual Chamber Banquet </span></li>\n</ul>\n<br />\n<u><strong>$1000 Community Sponsor</strong></u>\n\n<ul>\n	<li><span style="font-size:10.0pt\;">Recognition</span><span style="font-size:10.0pt\;"> of your sponsorship on Chamber Banner used at all </span><span style="font-size:10.0pt\;">Monthly Chamber Events</span></li>\n	<li><span style="font-size:10.0pt\;">Your NAME in every issue of the Chamber e-newsletter for the year </span></li>\n	<li><span style="font-size:10.0pt\;">2 Mass emails throughout the year to promote your business to members </span></li>\n	<li><span style="font-size:10.0pt\;">Your NAME with a link to your site on the Chamber website for the year</span></li>\n	<li>1 <span style="font-size:10.0pt\;">Member Spotlights on Chamber website for your business or promotional use </span></li>\n	<li>4 <span style="font-size:10.0pt\;">Facebook promotions of your business\, event\, sale or promotion</span></li>\n	<li><span style="font-size:10.0pt\;">Banner ad on all pages of Chamber Website for two months</span></li>\n	<li><span style="font-size:10.0pt\;">Recognition of your sponsorship at monthly Chamber luncheons </span></li>\n	<li><span style="font-size:10.0pt\;">1 Opportunities to display/promote your business at Chamber luncheons&nbsp\; </span></li>\n	<li><span style="font-size:10.0pt\;">1 Tickets to the Chamber luncheon with advance reservations</span></li>\n	<li><span style="font-size:10.0pt\;">Opportunity to make a 2 minute presentation at the Chamber luncheon of your choice</span></li>\n	<li><span style="font-size:10.0pt\;">Sponsorship listing in the Annual Awards Banquet Program</span></li>\n	<li><span style="font-size:10.0pt\;">Public recognition and thanks at the Annual Chamber Banquet </span></li>\n</ul>\n<br />\n<span style="color:white\;"><span style="font-size:25.0pt\;">EXECUTIVE </span></span><br />\n&nbsp\;
LOCATION:
UID:e.2106.6030
SEQUENCE:3
DTSTAMP:20260423T020021Z
URL:http://wdccc.chambermaster.com/events/details/2017-wdccc-corporate-sponsors-01-13-2017-6030
END:VEVENT

END:VCALENDAR
