BEGIN:VCALENDAR
VERSION:2.0
PRODID:-//ChamberMaster//Event Calendar 2.0//EN
METHOD:PUBLISH
X-PUBLISHED-TTL:P3D
REFRESH-INTERVAL:P3D
CALSCALE:GREGORIAN
BEGIN:VEVENT
DTSTART:20170420T210000Z
DTEND:20170420T230000Z
X-MICROSOFT-CDO-ALLDAYEVENT:FALSE
SUMMARY:After Hours
DESCRIPTION:April After Hours\n\nThursday\, April 20th\, 4-6pm\n\n\n\nHusker Hammer\n\n1406 Veterans Dr.\, Ste 100\n\nElkhorn\, NE\n\n\n\nOnline registration is now closed\, see you at the event!\n\n\n\nFREE to WDCCC Members\n\n$5 for Guests\n\n(Guests if it is your 1st time attending a WDCCC event email wdccc@wdccc.org for a complimentary pass)\n\n\n\nDon't forget your Business Cards!
X-ALT-DESC;FMTTYPE=text/html:<strong style="line-height: 20.8px\;">April After Hours</strong><br style="line-height: 20.8px\;" />\n<span style="line-height: 20.8px\;">Thursday\, April 20th\, 4-6pm</span><br style="line-height: 20.8px\;" />\n<br style="line-height: 20.8px\;" />\n<strong>Husker Hammer</strong><br />\n1406 Veterans Dr.\, Ste 100<br />\nElkhorn\, NE<br />\n<br />\nOnline registration is now closed\, see you at the event!<br />\n<br style="line-height: 20.8px\;" />\n<span style="font-size: 14px\;">FREE to&nbsp\;WDCCC&nbsp\;Members<br />\n$5 for Guests<br />\n<span style="font-size: 12px\;">(Guests if it is your 1st time attending a&nbsp\;WDCCC&nbsp\;event email&nbsp\;wdccc@wdccc.org for a complimentary pass)</span></span><br style="line-height: 20.8px\;" />\n<br style="line-height: 20.8px\;" />\n<span style="line-height: 20.8px\;">Don&#39\;t forget your Business Cards!</span><br style="line-height: 20.8px\;" />\n&nbsp\;
LOCATION:Husker Hammer 1406 Veterans Dr.\, Ste 100 Elkhorn\, NE
UID:e.2106.554
SEQUENCE:3
DTSTAMP:20260420T094248Z
URL:http://wdccc.chambermaster.com/events/details/after-hours-04-20-2017-554
END:VEVENT

END:VCALENDAR
