BEGIN:VCALENDAR
VERSION:2.0
PRODID:-//ChamberMaster//Event Calendar 2.0//EN
METHOD:PUBLISH
X-PUBLISHED-TTL:P3D
REFRESH-INTERVAL:P3D
CALSCALE:GREGORIAN
BEGIN:VEVENT
DTSTART:20170518T210000Z
DTEND:20170518T230000Z
X-MICROSOFT-CDO-ALLDAYEVENT:FALSE
SUMMARY:After Hours
DESCRIPTION:May After Hours\n\nThursday\, May 18th\, 4-6pm\n\n\n\nRegistration is now closed.  You may still register at the event.\n\nAmerican Interstate Bank\n\n15909 W Maple Rd\n\nOmaha\, NE 68116\n\n\n\nFREE to WDCCC Members\n\n$5 for Guests\n\n(Guests if it is your 1st time attending a WDCCC event email wdccc@wdccc.org for a complimentary pass)\n\n\n\nDon't forget your Business Cards!
X-ALT-DESC;FMTTYPE=text/html:<span style="font-size:16px\;"><strong style="line-height: 20.8px\;">May After Hours</strong></span><br style="line-height: 20.8px\;" />\n<span style="line-height: 20.8px\;">Thursday\, May 18th\, 4-6pm</span><br style="line-height: 20.8px\;" />\n<br />\nRegistration is now closed. &nbsp\;You may still register at the event.<br style="line-height: 20.8px\;" />\n<span style="font-size:16px\;"><strong>American Interstate Bank</strong></span><br style="line-height: 20.8px\;" />\n<span style="font-size:12px\;">15909 W Maple Rd<br />\nOmaha\, NE 68116</span><br style="line-height: 20.8px\;" />\n<br style="line-height: 20.8px\;" />\n<span style="font-size: 14px\;">FREE to&nbsp\;WDCCC&nbsp\;Members<br />\n$5 for Guests<br />\n<span style="font-size: 12px\;">(Guests if it is your 1st time attending a&nbsp\;WDCCC&nbsp\;event email&nbsp\;wdccc@wdccc.org for a complimentary pass)</span></span><br style="line-height: 20.8px\;" />\n<br style="line-height: 20.8px\;" />\n<span style="line-height: 20.8px\;">Don&#39\;t forget your Business Cards!</span>
LOCATION:American Interstate Bank 15909 W Maple Rd Omaha\, NE 68116
UID:e.2106.555
SEQUENCE:3
DTSTAMP:20260421T231639Z
URL:http://wdccc.chambermaster.com/events/details/after-hours-05-18-2017-555
END:VEVENT

END:VCALENDAR
