BEGIN:VCALENDAR
VERSION:2.0
PRODID:-//ChamberMaster//Event Calendar 2.0//EN
METHOD:PUBLISH
X-PUBLISHED-TTL:P3D
REFRESH-INTERVAL:P3D
CALSCALE:GREGORIAN
BEGIN:VEVENT
DTSTART:20170720T210000Z
DTEND:20170720T230000Z
X-MICROSOFT-CDO-ALLDAYEVENT:FALSE
SUMMARY:After Hours
DESCRIPTION:Online Registration is closed however you may still register at the event.\n\n\n\nJuly After Hours\n\nThursday\, July 20th\, 4-6pm\n\n\n\nOmaha Spine & Sport\n\n15615 Pacific St. Suite 106\n\nOmaha\, NE 68118\n\n\n\nFREE to WDCCC Members\n\n$5 for Guests\n\n(Guests if it is your 1st time attending a WDCCC event email wdccc@wdccc.org for a complimentary pass)\n\n\n\nDon't forget your Business Cards!
X-ALT-DESC;FMTTYPE=text/html:<br />\nOnline Registration is closed however you may still register at the event.<br />\n<br />\n<span style="color:#800000\;"><span style="font-size:18px\;"><strong style="line-height: 20.8px\;">July After Hours</strong></span></span><br style="line-height: 20.8px\;" />\n<span style="line-height: 20.8px\;">Thursday\, July 20th\, 4-6pm</span><br />\n<br style="line-height: 20.8px\;" />\n<span style="font-size:16px\;"><strong>Omaha Spine &amp\; Sport</strong></span><br style="line-height: 20.8px\;" />\n<span style="font-size:12px\;">15615 Pacific St. Suite 106<br style="line-height: 20.8px\;" />\n<span style="line-height: 20.8px\;">Omaha\, NE 68118</span></span><br style="line-height: 20.8px\;" />\n<br style="line-height: 20.8px\;" />\n<span style="font-size: 14px\;">FREE to&nbsp\;WDCCC&nbsp\;Members<br />\n$5 for Guests<br />\n<span style="font-size: 12px\;">(Guests if it is your 1st time attending a&nbsp\;WDCCC&nbsp\;event email&nbsp\;wdccc@wdccc.org for a complimentary pass)</span></span><br style="line-height: 20.8px\;" />\n<br style="line-height: 20.8px\;" />\n<span style="line-height: 20.8px\;">Don&#39\;t forget your Business Cards!</span>
LOCATION:Omaha Spine & Sport 15615 Pacific St. Suite 106 Omaha\, NE 68118
UID:e.2106.557
SEQUENCE:3
DTSTAMP:20260419T180951Z
URL:http://wdccc.chambermaster.com/events/details/after-hours-07-20-2017-557
END:VEVENT

END:VCALENDAR
