BEGIN:VCALENDAR
VERSION:2.0
PRODID:-//ChamberMaster//Event Calendar 2.0//EN
METHOD:PUBLISH
X-PUBLISHED-TTL:P3D
REFRESH-INTERVAL:P3D
CALSCALE:GREGORIAN
BEGIN:VEVENT
DTSTART:20170307T220000Z
DTEND:20170308T000000Z
X-MICROSOFT-CDO-ALLDAYEVENT:FALSE
SUMMARY:ATI Physical Therapy Ribbon Cutting
DESCRIPTION:Ribbon Cutting\n\nTuesday\, March 7th\, 4-6pm\n\nRibbon Cutting at 4pm\n\nFood & Refreshments\n\n\n\nATI Physical Therapy\n\n1408 Veterans Drive Ste 102\n\nElkhorn\, NE
X-ALT-DESC;FMTTYPE=text/html:<strong>Ribbon Cutting</strong><br />\nTuesday\, March 7th\, 4-6pm<br />\nRibbon Cutting at 4pm<br />\nFood &amp\; Refreshments<br />\n<br />\n<strong>ATI Physical Therapy</strong><br />\n1408 Veterans Drive Ste 102<br />\nElkhorn\, NE<br />\n&nbsp\;
LOCATION:ATI Physical Therapy 1408 Veterans Drive Ste 102 Elkhorn\, NE
UID:e.2106.3453
SEQUENCE:3
DTSTAMP:20260421T094715Z
URL:http://wdccc.chambermaster.com/events/details/ati-physical-therapy-ribbon-cutting-3453
END:VEVENT

END:VCALENDAR
