BEGIN:VCALENDAR
VERSION:2.0
PRODID:-//ChamberMaster//Event Calendar 2.0//EN
METHOD:PUBLISH
X-PUBLISHED-TTL:P3D
REFRESH-INTERVAL:P3D
CALSCALE:GREGORIAN
BEGIN:VEVENT
DTSTART:20170630T133000Z
DTEND:20170630T143000Z
X-MICROSOFT-CDO-ALLDAYEVENT:FALSE
SUMMARY:Chamber Connect Team Friday
DESCRIPTION:CHAMBER CONNECT TEAM\n\n\n\nThe purpose of this team is to provide members of various business opportunity to further their business interests through the exchange of tips\, leads and information.\n\n	Members must belong to the Western Douglas County Chamber of Commerce (although the membership applies to the individual during Chamber Connect Team participation)\n	Only one member per industry or professional category is allowed.\n	Group will meet on Tuesdays from 11:30-1pm.\n	Attendance is necessary for groups success\n	Members will be responsible for their own meal costs.
X-ALT-DESC;FMTTYPE=text/html:<br />\n<strong><span style="border:none windowtext 1.0pt\;padding:0in\;"><span style="color:maroon\;"><span style="font-family:inherit\,serif\;"><span style="font-size:13.5pt\;">CHAMBER CONNECT TEAM</span></span></span></span></strong><br />\n<br />\n<span style="border:none windowtext 1.0pt\;padding:0in\;"><span style="color:#444444\;"><span style="font-family:inherit\,serif\;"><span style="font-size:10.5pt\;">The purpose of this team is to provide members of various business opportunity to further their business interests through the exchange of tips\, leads and information.</span></span></span></span>\n<ul>\n	<li style="margin-bottom:.0001pt\;vertical-align:baseline\;"><span style="color:#444444\;"><span style="font-family:inherit\,serif\;"><span style="font-size:10.5pt\;">Members must belong to the Western Douglas County Chamber of Commerce (although the membership applies to the individual during Chamber Connect Team participation)</span></span></span></li>\n	<li style="margin-bottom:.0001pt\;vertical-align:baseline\;"><span style="color:#444444\;"><span style="font-family:inherit\,serif\;"><span style="font-size:10.5pt\;">Only one member per industry or professional category is allowed.</span></span></span></li>\n	<li style="margin-bottom:.0001pt\;vertical-align:baseline\;"><span style="color:#444444\;"><span style="font-family:inherit\,serif\;"><span style="font-size:10.5pt\;">Group will meet on Tuesdays from 11:</span></span></span><span style="color:#444444\;"><span style="font-family:inherit\,serif\;"><span style="font-size:10.5pt\;">30-1pm</span></span></span><span style="color:#444444\;"><span style="font-family:inherit\,serif\;"><span style="font-size:10.5pt\;">.</span></span></span></li>\n	<li style="margin-bottom:.0001pt\;vertical-align:baseline\;"><span style="color:#444444\;"><span style="font-family:inherit\,serif\;"><span style="font-size:10.5pt\;">Attendance is necessary for groups success</span></span></span></li>\n	<li style="margin-bottom:.0001pt\;vertical-align:baseline\;"><span style="color:#444444\;"><span style="font-family:inherit\,serif\;"><span style="font-size:10.5pt\;">Members will be responsible for their own meal costs.</span></span></span></li>\n</ul>\n
LOCATION:Fridays @ 8:30-9:30am
UID:e.2106.3875
SEQUENCE:3
DTSTAMP:20260421T152118Z
URL:http://wdccc.chambermaster.com/events/details/chamber-connect-team-friday-06-30-2017-3875
END:VEVENT

END:VCALENDAR
