BEGIN:VCALENDAR
VERSION:2.0
PRODID:-//ChamberMaster//Event Calendar 2.0//EN
METHOD:PUBLISH
X-PUBLISHED-TTL:P3D
REFRESH-INTERVAL:P3D
CALSCALE:GREGORIAN
BEGIN:VEVENT
DTSTART:20170328T184500Z
DTEND:20170328T210000Z
X-MICROSOFT-CDO-ALLDAYEVENT:FALSE
SUMMARY:Chamber Workshop: Cyber Security 102
DESCRIPTION:Chamber Workshop\n\nCyber Security 102\n\n\n\nTuesday\, March 28th   1:45pm-4:00pm\n\n\n\nResidence Inn Omaha West\n18202 Cuming Street\n\nOmaha\, NE 68022\n\n\nCyber Security 102\n\nPresenters:\n\nWill Creech\, Intellegen\n\n\n\nFree for Members to Attend\n\n$5 for guests
X-ALT-DESC;FMTTYPE=text/html:<strong>Chamber Workshop<br />\nCyber Security 102</strong><br />\n<br />\nTuesday\, March 28th &nbsp\; 1:45pm-4:00pm<br />\n<br />\n<strong>Residence Inn Omaha West</strong>\n<div class="mn-address1" itemprop="streetAddress">18202 Cuming Street</div>\n\n<div class="mn-citystatezip"><span class="mn-cityspan" itemprop="addressLocality">Omaha</span><span class="mn-commaspan">\, </span><span class="mn-stspan" itemprop="addressRegion">NE</span> <span class="mn-zipspan" itemprop="postalCode">68022</span></div>\n<br />\nCyber Security 102<br />\nPresenters:<br />\nWill Creech\, Intellegen<br />\n<br />\nFree for Members to Attend<br />\n$5 for guests
LOCATION:Residence Inn Omaha West 18202 Cuming Street Omaha\, NE 68022
UID:e.2106.3455
SEQUENCE:3
DTSTAMP:20260421T152118Z
URL:http://wdccc.chambermaster.com/events/details/chamber-workshop-cyber-security-102-3455
END:VEVENT

END:VCALENDAR
