BEGIN:VCALENDAR
VERSION:2.0
PRODID:-//ChamberMaster//Event Calendar 2.0//EN
METHOD:PUBLISH
X-PUBLISHED-TTL:P3D
REFRESH-INTERVAL:P3D
CALSCALE:GREGORIAN
BEGIN:VEVENT
DTSTART:20170510T123000Z
DTEND:20170510T140000Z
X-MICROSOFT-CDO-ALLDAYEVENT:FALSE
SUMMARY:Coffee & Connections
DESCRIPTION:May Coffee & Connections\n\nWednesday\, May 10th\, 7:30-9am\n\n\n\nOnline registration is now closed.  We look forward to seeing you at the event.  You can still register at the door.\n\n\n\nExcel Physical Therapy\n\n1303 S. 204th St\n\nElkhorn\, NE 68022\n\n\n\nFREE to WDCCC Members\n\n$5 for Guests\n\n(Guests if it is your 1st time attending a WDCCC event email wdccc@wdccc.org for a complimentary pass)\n\n\n\nDon't forget your Business Cards!
X-ALT-DESC;FMTTYPE=text/html:<span style="font-size: 14px\;"><strong>May Coffee &amp\; Connections</strong><br />\nWednesday\, May 10th\, 7:30-9am</span><br style="line-height: 20.8px\;" />\n<br />\n<span style="font-size: 14px\;">Online registration is now closed.&nbsp\; We look forward to seeing you at the event.&nbsp\; You can still register at the door.</span><br />\n<br style="line-height: 20.8px\;" />\n<strong>Excel Physical Therapy</strong><br style="line-height: 20.8px\;" />\n1303 S. 204th St<br style="line-height: 20.8px\;" />\n<span style="line-height: 20.8px\;">Elkhorn</span><span style="line-height: 20.8px\;">\, NE 68022</span><br style="line-height: 20.8px\;" />\n<br style="line-height: 20.8px\;" />\n<span style="font-size: 14px\;">FREE to&nbsp\;WDCCC&nbsp\;Members<br />\n$5 for Guests<br />\n<span style="font-size: 12px\;">(Guests if it is your 1st time attending a&nbsp\;WDCCC&nbsp\;event email&nbsp\;wdccc@wdccc.org for a complimentary pass)</span></span><br style="line-height: 20.8px\;" />\n<br style="line-height: 20.8px\;" />\n<span style="line-height: 20.8px\;">Don&#39\;t forget your Business Cards!</span>
LOCATION:Excel Physical Therapy 1303 S. 204th St Elkhorn\, NE 68022
UID:e.2106.433
SEQUENCE:3
DTSTAMP:20260419T224909Z
URL:http://wdccc.chambermaster.com/events/details/coffee-connections-05-10-2017-433
END:VEVENT

END:VCALENDAR
