BEGIN:VCALENDAR
VERSION:2.0
PRODID:-//ChamberMaster//Event Calendar 2.0//EN
METHOD:PUBLISH
X-PUBLISHED-TTL:P3D
REFRESH-INTERVAL:P3D
CALSCALE:GREGORIAN
BEGIN:VEVENT
DTSTART:20170930T150000Z
DTEND:20170930T190000Z
X-MICROSOFT-CDO-ALLDAYEVENT:FALSE
SUMMARY:Electronic Recycling Event
DESCRIPTION:Electronic Collection Event\n\nSAT Sept 30th 10 am -2 pm \n\n \n\nat Digital Doc. 3822 North 156th Street \n\nIn the northwest corner of 156th and Maple between Dominos and Bank of Bennington.\n\nLook for the collection truck! \n\n \n\nCollecting Electronics & Metal. Collecting anything with a battery\, cord or motor.\n\n*Environmental fees apply to recycle TV's\, CRT items\, Alkaline batteries and microwaves\n\n(see crossrecycling.com for more information).\n\n\n\nClean out your drawers\, closets\, garage and basement! Get rid of those electronics that aren't working.\n\nOld appliances\, that power washer and all of those cords and old phones in you drawers!
X-ALT-DESC;FMTTYPE=text/html:<div style="text-align: center\;"><span style="font-size:24px"><span style="background-color:rgb(255\, 255\, 255)\; color:rgba(0\, 0\, 0\, 0.87)\; font-family:roboto\,robotodraft\,helvetica\,arial\,sans-serif"><u><strong>&nbsp\;Electronic Collection Event</strong></u></span></span></div>\n\n<div style="text-align: center\;"><span style="background-color:rgb(255\, 255\, 255)\; color:rgba(0\, 0\, 0\, 0.87)\; font-family:roboto\,robotodraft\,helvetica\,arial\,sans-serif\; font-size:14px"><span style="font-size:11px"><span style="font-size:20px">SAT Sept 30th 10 am -2 pm </span></span></span><br />\n&nbsp\;</div>\n\n<div style="text-align: center\;"><span style="background-color:rgb(255\, 255\, 255)\; color:rgba(0\, 0\, 0\, 0.87)\; font-family:roboto\,robotodraft\,helvetica\,arial\,sans-serif\; font-size:20px">at Digital Doc. 3822 North 156th Street&nbsp\;</span><br />\n<span style="background-color:rgb(255\, 255\, 255)\; color:rgba(0\, 0\, 0\, 0.87)\; font-family:roboto\,robotodraft\,helvetica\,arial\,sans-serif\; font-size:14px">In the northwest corner of 156th and Maple between Dominos and Bank of Bennington.<br />\nLook for the collection truck!&nbsp\;</span></div>\n\n<div style="text-align: center\;">&nbsp\;</div>\n\n<div style="text-align: center\;"><span style="background-color:rgb(255\, 255\, 255)\; color:rgba(0\, 0\, 0\, 0.87)\; font-family:roboto\,robotodraft\,helvetica\,arial\,sans-serif\; font-size:14px">Collecting Electronics &amp\; Metal. Collecting anything with a battery\, cord or motor.<br />\n*Environmental fees apply to recycle TV&#39\;s\, CRT items\, Alkaline batteries and microwaves<br />\n(see crossrecycling.com for more information).<br />\n<br />\nClean out your drawers\, closets\, garage and basement! Get rid of those electronics that aren&#39\;t working.<br />\nOld appliances\, that power washer and all of those cords and old phones in you drawers!&nbsp\;</span></div>\n
LOCATION:Digital Doc. 3822 North 156th Street In the northwest corner of 156th and Maple between Dominos and Bank of Bennington.
UID:e.2106.5455
SEQUENCE:3
DTSTAMP:20260420T120737Z
URL:http://wdccc.chambermaster.com/events/details/electronic-recycling-event-5455
END:VEVENT

END:VCALENDAR
