BEGIN:VCALENDAR
VERSION:2.0
PRODID:-//ChamberMaster//Event Calendar 2.0//EN
METHOD:PUBLISH
X-PUBLISHED-TTL:P3D
REFRESH-INTERVAL:P3D
CALSCALE:GREGORIAN
BEGIN:VEVENT
DTSTART:20170325T150000Z
DTEND:20170325T180000Z
X-MICROSOFT-CDO-ALLDAYEVENT:FALSE
SUMMARY:Electronics Recycling Drive
DESCRIPTION:Digital Doc is partnering with Cross Electronic Recycling for a collection event. Bring any used electronics\, appliances\, equipment or metals for recycling. Anything with a cord or a battery - working or not. There are recycling fees for CRT monitors and TVs.
X-ALT-DESC;FMTTYPE=text/html:Digital Doc is partnering with Cross Electronic Recycling for a collection event. Bring any used electronics\, appliances\, equipment or metals for recycling. Anything with a cord or a battery - working or not. There are recycling fees for CRT monitors and TVs.
LOCATION:Digitla Doc 3822 N. 156th St. Omaha\, NE 68116 531-200-3800
UID:e.2106.3468
SEQUENCE:3
DTSTAMP:20260423T043836Z
URL:http://wdccc.chambermaster.com/events/details/electronics-recycling-drive-3468
END:VEVENT

END:VCALENDAR
