BEGIN:VCALENDAR
VERSION:2.0
PRODID:-//ChamberMaster//Event Calendar 2.0//EN
METHOD:PUBLISH
X-PUBLISHED-TTL:P3D
REFRESH-INTERVAL:P3D
CALSCALE:GREGORIAN
BEGIN:VEVENT
DTSTART:20170126T220000Z
DTEND:20170127T000000Z
X-MICROSOFT-CDO-ALLDAYEVENT:FALSE
SUMMARY:FIRSTPRIORITY Insurance - Will Cummings Ribbon Cutting
DESCRIPTION:Ribbon Cutting\n\nThursday\, January 26th\, 4-6pm\n\nRibbon Cutting at 4pm\n\n\n\nFIRSTPRIORITY Insurance -  Will Cummings \n\n1805 N 169th Plz\, Suite B\n\nOmaha\, NE  68118
X-ALT-DESC;FMTTYPE=text/html:<br />\n<strong>Ribbon Cutting</strong><br />\nThursday\, January 26th\, 4-6pm<br />\nRibbon Cutting at 4pm<br />\n<br />\nFIRSTPRIORITY Insurance - &nbsp\;Will Cummings&nbsp\;<br />\n1805 N 169th Plz\, Suite B<br />\nOmaha\, NE &nbsp\;68118
LOCATION:FIRSTPRIORITY Insurance - Will Cummings 1805 N 169th Plz\, Suite B Omaha\, NE 6811
UID:e.2106.3436
SEQUENCE:3
DTSTAMP:20260423T091806Z
URL:http://wdccc.chambermaster.com/events/details/firstpriority-insurance-will-cummings-ribbon-cutting-3436
END:VEVENT

END:VCALENDAR
