BEGIN:VCALENDAR
VERSION:2.0
PRODID:-//ChamberMaster//Event Calendar 2.0//EN
METHOD:PUBLISH
X-PUBLISHED-TTL:P3D
REFRESH-INTERVAL:P3D
CALSCALE:GREGORIAN
BEGIN:VEVENT
DTSTART:20170221T214500Z
DTEND:20170221T230000Z
X-MICROSOFT-CDO-ALLDAYEVENT:FALSE
SUMMARY:Fresh Thyme Ribbon Cutting
DESCRIPTION:Ribbon Cutting\n\nTuesday\, February 21st\, 3:45pm\n\n\n\nFresh Thyme Farmers Market \n\n177550 Gold Plaza\n\nOmaha\, NE
X-ALT-DESC;FMTTYPE=text/html:<br />\n<strong>Ribbon Cutting</strong><br />\nTuesday\, February 21st\, 3:45pm<br />\n<br />\n<strong>Fresh Thyme Farmers Market </strong><br />\n177550 Gold Plaza<br />\nOmaha\, NE
LOCATION:Fresh Thyme Farmers Market 177550 Gold Plaza Omaha\, NE
UID:e.2106.3452
SEQUENCE:3
DTSTAMP:20260423T182252Z
URL:http://wdccc.chambermaster.com/events/details/fresh-thyme-ribbon-cutting-3452
END:VEVENT

END:VCALENDAR
