BEGIN:VCALENDAR
VERSION:2.0
PRODID:-//ChamberMaster//Event Calendar 2.0//EN
METHOD:PUBLISH
X-PUBLISHED-TTL:P3D
REFRESH-INTERVAL:P3D
CALSCALE:GREGORIAN
BEGIN:VEVENT
DTSTART:20170429T220000Z
DTEND:20170430T040000Z
X-MICROSOFT-CDO-ALLDAYEVENT:FALSE
SUMMARY:HETRA's Blue Jeans and Dreams
DESCRIPTION:Put on your hats and boots for an evening of country elegance with great food and friends to support the Heartland Equine Therapeutic Riding Academy Participant Sponsorship Fund. Crouch Recreation proudly sponsors the 17th annual "Blue Jeans and Dreams:" at the HETRA facility on April 29\, 2017. Join Host Couple\, Sue and John Knicely\, at 5 pm for social hour and silent auction. Meet and greet HETRA participants and horses throughout the evening. Buy your tickets or reserve a table at www.HETRA.org For more info call 402-359-8830. HETRA's mission is to improve the quality of life both physically and emotionally of adults and children with disabilities through equine assisted activities. Where Horses and YOU make dreams come true!
X-ALT-DESC;FMTTYPE=text/html:Put on your hats and boots for an evening of country elegance with great food and friends to support the Heartland Equine Therapeutic Riding Academy Participant Sponsorship Fund. Crouch Recreation proudly sponsors the 17th annual &ldquo\;Blue Jeans and Dreams:&rdquo\; at the HETRA facility on April 29\, 2017. Join Host Couple\, Sue and John Knicely\, at 5 pm for social hour and silent auction. Meet and greet HETRA participants and horses throughout the evening. Buy your tickets or reserve a table at www.HETRA.org For more info call 402-359-8830. HETRA&rsquo\;s mission is to improve the quality of life both physically and emotionally of adults and children with disabilities through equine assisted activities. Where Horses and YOU make dreams come true!
LOCATION:HETRA Barn 10130 S 222nd Street Gretna NE 68028
UID:e.2106.3470
SEQUENCE:3
DTSTAMP:20260420T040545Z
URL:http://wdccc.chambermaster.com/events/details/hetra-s-blue-jeans-and-dreams-3470
END:VEVENT

END:VCALENDAR
