BEGIN:VCALENDAR
VERSION:2.0
PRODID:-//ChamberMaster//Event Calendar 2.0//EN
METHOD:PUBLISH
X-PUBLISHED-TTL:P3D
REFRESH-INTERVAL:P3D
CALSCALE:GREGORIAN
BEGIN:VEVENT
DTSTART:20170419T220000Z
DTEND:20170420T000000Z
X-MICROSOFT-CDO-ALLDAYEVENT:FALSE
SUMMARY:MCC 17th Annual Student Art Exhibition
DESCRIPTION:MCC's 17th annual student art exhibition and reception. Awards presented at 6 p.m. Refreshments served.
X-ALT-DESC;FMTTYPE=text/html:MCC&#39\;s 17th annual student art exhibition and reception. Awards presented at 6 p.m. Refreshments served.
LOCATION:Elkhorn Valley Campus Gallery of Art & Design\, 829 N. 204th St.\, Elkhorn\, NE 68022
UID:e.2106.3473
SEQUENCE:3
DTSTAMP:20260421T074503Z
URL:http://wdccc.chambermaster.com/events/details/mcc-17th-annual-student-art-exhibition-3473
END:VEVENT

END:VCALENDAR
