BEGIN:VCALENDAR
VERSION:2.0
PRODID:-//ChamberMaster//Event Calendar 2.0//EN
METHOD:PUBLISH
X-PUBLISHED-TTL:P3D
REFRESH-INTERVAL:P3D
CALSCALE:GREGORIAN
BEGIN:VEVENT
DTSTART:20170623T133000Z
DTEND:20170623T143000Z
X-MICROSOFT-CDO-ALLDAYEVENT:FALSE
SUMMARY:TIP's Friday Morning Group
DESCRIPTION:TIPS\n\nTo Improve Professional Service\n\nThe purpose of this group is to provide members of various business opportunity to further their business interests through the exchange of tips\, leads and information.\n\n	Members must belong to the Western Douglas County Chamber of Commerce (although the membership applies to the individual during T.I.P.S. group participation)\n	Only one member per industry or professional category is allowed.\n	Group will meet on Tuesdays from 12-1pm.\n	Attendance is necessary for groups success\n	A membership fee will be charged to join the group.\n	Members will be responsible for their own meal costs.\n\nMark your calendar to attend this informational session and find out if this T.I.P.S. group is right for you.
X-ALT-DESC;FMTTYPE=text/html:<span style="font-size:18px"><span style="font-size:15px"><strong>TIPS<br />\nT</strong>o <strong>I</strong>mprove <strong>P</strong>rofessional <strong>S</strong>ervice<br />\n<span style="font-size:14px\;">The purpose of this group is to provide members of various business opportunity to further their business interests through the exchange of tips\, leads and information.</span></span></span>\n<ul>\n	<li>Members must belong to the Western Douglas County Chamber of Commerce (although the membership applies to the individual during T.I.P.S. group participation)</li>\n	<li>Only one member per industry or professional category is allowed.</li>\n	<li>Group will meet on Tuesdays from 12-1pm.</li>\n	<li>Attendance is necessary for groups success</li>\n	<li>A membership fee will be charged to join the group.</li>\n	<li>Members will be responsible for their own meal costs.</li>\n</ul>\nMark your calendar to attend this informational session and find out if this T.I.P.S. group is right for you.
LOCATION:Friday\, June 23rd\, 8:30-9:30am NEW TIPS Group Leader: Will Creech\, Intellegen Please RSVP HERE Please RSVP ONLY if attending.
UID:e.2106.3874
SEQUENCE:3
DTSTAMP:20260419T151642Z
URL:http://wdccc.chambermaster.com/events/details/tip-s-friday-morning-group-06-23-2017-3874
END:VEVENT

END:VCALENDAR
