BEGIN:VCALENDAR
VERSION:2.0
PRODID:-//ChamberMaster//Event Calendar 2.0//EN
METHOD:PUBLISH
X-PUBLISHED-TTL:P3D
REFRESH-INTERVAL:P3D
CALSCALE:GREGORIAN
BEGIN:VEVENT
DTSTART:20170425T163000Z
DTEND:20170425T180000Z
X-MICROSOFT-CDO-ALLDAYEVENT:FALSE
SUMMARY:WDCCC Scholarship Luncheon
DESCRIPTION:April Scholarship Luncheon\n\nTuesday\, April 25th 11:30-1pm\n\n\n\nOn line Registration is now closed\, see you at the event.\n\n\n\nIndian Creek Golf Course\n\n3825 N 202nd Street\n\nElkhorn\, NE  68022\n\n\n\nSpeaker:  Patrick Boyle\, Metropolitan Community College\n\n\n\nIf you are interested in being a\n\nScholarship Lunch Sponsor for\n\n$250\, $100\, or $50\n\nPlease REGISTER HERE\n\nSponsors will be acknowledged during presentation.\n\n\n\nRemember your business cards!
X-ALT-DESC;FMTTYPE=text/html:<strong>April Scholarship Luncheon</strong><br />\nTuesday\, April 25th 11:30-1pm<br />\n<br />\nOn line Registration is now closed\, see you at the event.<br />\n<br />\n<strong>Indian Creek Golf Course</strong><br />\n3825 N 202nd Street<br />\nElkhorn\, NE &nbsp\;68022<br />\n<br />\n<strong>Speaker:</strong>&nbsp\; Patrick Boyle\, Metropolitan Community College<br />\n<br />\n<span style="font-size:18px"><span style="font-size:15px"><strong>If you are interested in being a<br />\nScholarship Lunch Sponsor for<br />\n$250\, $100\, or $50<br />\nPlease </strong><a href="http://business.wdccc.org/events/details/scholarship-lunch-sponsor-3474" style="word-wrap: break-word\;-ms-text-size-adjust: 100%\;-webkit-text-size-adjust: 100%\;color: #6DC6DD\;font-weight: bold\;text-decoration: underline\;" target="_blank">REGISTER HERE</a></span></span><br />\nSponsors will be acknowledged during presentation.<br />\n<br />\nRemember your business cards!
LOCATION:Indian Creek Golf Course 3825 N 202nd Street Elkhorn\, NE 68022
UID:e.2106.2402
SEQUENCE:3
DTSTAMP:20260420T040545Z
URL:http://wdccc.chambermaster.com/events/details/wdccc-scholarship-luncheon-2402
END:VEVENT

END:VCALENDAR
